BEGIN:VCALENDAR
VERSION:2.0
PRODID:icalendar-ruby
CALSCALE:GREGORIAN
METHOD:PUBLISH
BEGIN:VEVENT
DTSTAMP:20260425T162719Z
UID:72-412939@shottawa.org
DTSTART:20260503T170000Z
DTEND:20260503T180000Z
CLASS:PUBLIC
CREATED:20260409T131338
DESCRIPTION:Since we didn't have the reception following Holy Saturday Mass
  for the 15 adults who entered into full communion in the Catholic Church\
 , the Altar Society is hosting a luncheon in their honor. The whole parish
  is invited. Come help us celebrate!
LAST-MODIFIED:20260409T131338
LOCATION:Sacred Heart Parish Center
SUMMARY:Luncheon Celebration for our New Members
URL;VALUE=URI:https://shottawa.org/events/luncheon-celebration-for-our-new-
 members/2026-05-03
END:VEVENT
END:VCALENDAR
