BEGIN:VCALENDAR
VERSION:2.0
PRODID:icalendar-ruby
CALSCALE:GREGORIAN
METHOD:PUBLISH
BEGIN:VEVENT
DTSTAMP:20260421T112249Z
UID:139-436913@shottawa.org
DTSTART:20260423T190000Z
DTEND:20260424T190000Z
CLASS:PUBLIC
CREATED:20260420T122612
DESCRIPTION:This international tour is scheduled to visit our parish on Apr
 il 23 (2:00 PM) – April 24 (noon). Patrick Sabat\, the primary custodian
  of the statue\, will be giving two talks during this visit: \nApril 23rd 
 at 2:45 PM\nApril 24th at 8:45 AM.\n\nIn additional to our usual Adoration
  schedule\, we will have Adoration of the Blessed Sacrament throughout the
  night. To sign up for one hour of Adoration from Thursday at 8:00 PM – 
 Friday at 8:05 AM\, go to: https://tinyurl.com/Adoration-SH
LAST-MODIFIED:20260420T122612
LOCATION:
SUMMARY:International Pilgrim Virgin Statue Visit
URL;VALUE=URI:https://shottawa.org/events/international-pilgrim-virgin-stat
 ue-visit/2026-04-23
END:VEVENT
END:VCALENDAR
